BEGIN:VCALENDAR
VERSION:2.0
PRODID:-//wp-events-plugin.com//7.2.3.1//EN
TZID:Europe/Paris
X-WR-TIMEZONE:Europe/Paris
BEGIN:VEVENT
UID:207@trignacphotos.fr
DTSTART;TZID=Europe/Paris:20251017T180000
DTEND;TZID=Europe/Paris:20251017T193000
DTSTAMP:20251014T113600Z
URL:https://trignacphotos.fr/events/sortie-theme-le-flou
SUMMARY:Sortie Thème le Flou
DESCRIPTION:Place du Commando à Saint-Nazaire
CATEGORIES:Atelier photo
END:VEVENT
BEGIN:VTIMEZONE
TZID:Europe/Paris
X-LIC-LOCATION:Europe/Paris
BEGIN:DAYLIGHT
DTSTART:20250330T030000
TZOFFSETFROM:+0100
TZOFFSETTO:+0200
TZNAME:CEST
END:DAYLIGHT
END:VTIMEZONE
END:VCALENDAR