BEGIN:VCALENDAR
VERSION:2.0
PRODID:-//wp-events-plugin.com//7.2.3.1//EN
TZID:Europe/Paris
X-WR-TIMEZONE:Europe/Paris
BEGIN:VEVENT
UID:307@trignacphotos.fr
DTSTART;TZID=Europe/Paris:20260502T180000
DTEND;TZID=Europe/Paris:20260502T200000
DTSTAMP:20260420T204447Z
URL:https://trignacphotos.fr/events/sortie-pen-bron
SUMMARY:Sortie Pen-Bron
DESCRIPTION:Avec la Team sortie pour le thème "Sable" Départ avec covoitu
 rage.
CATEGORIES:Sortie festive
END:VEVENT
BEGIN:VTIMEZONE
TZID:Europe/Paris
X-LIC-LOCATION:Europe/Paris
BEGIN:DAYLIGHT
DTSTART:20260329T030000
TZOFFSETFROM:+0100
TZOFFSETTO:+0200
TZNAME:CEST
END:DAYLIGHT
END:VTIMEZONE
END:VCALENDAR