BEGIN:VCALENDAR
VERSION:2.0
PRODID:-//wp-events-plugin.com//7.2.3.1//EN
TZID:Europe/Paris
X-WR-TIMEZONE:Europe/Paris
BEGIN:VEVENT
UID:281@trignacphotos.fr
DTSTART;TZID=Europe/Paris:20260330T214500
DTEND;TZID=Europe/Paris:20260330T220000
DTSTAMP:20260224T091315Z
URL:https://trignacphotos.fr/events/reunion-du-lundi-9-2026-03-02-2026-03-
 16-2026-03-23-2026-03-30
SUMMARY:Réunion du lundi
DESCRIPTION:Projection Photo - Thème Libre
CATEGORIES:Séance du lundi soir
LOCATION:CCLA - Salle du bas\, 6 Rue de la Mairie\, 44570 Trignac\, Trignac
 \, France\, 44570\, France
X-APPLE-STRUCTURED-LOCATION;VALUE=URI;X-ADDRESS=6 Rue de la Mairie\, 44570 
 Trignac\, Trignac\, France\, 44570\, France;X-APPLE-RADIUS=100;X-TITLE=CCL
 A - Salle du bas:geo:0,0
END:VEVENT
BEGIN:VTIMEZONE
TZID:Europe/Paris
X-LIC-LOCATION:Europe/Paris
BEGIN:DAYLIGHT
DTSTART:20260329T030000
TZOFFSETFROM:+0100
TZOFFSETTO:+0200
TZNAME:CEST
END:DAYLIGHT
END:VTIMEZONE
END:VCALENDAR