BEGIN:VCALENDAR
VERSION:2.0
PRODID:-//wp-events-plugin.com//7.2.3.1//EN
TZID:Europe/Paris
X-WR-TIMEZONE:Europe/Paris
BEGIN:VEVENT
UID:305@trignacphotos.fr
DTSTART;TZID=Europe/Paris:20260512T190000
DTEND;TZID=Europe/Paris:20260512T220000
DTSTAMP:20260420T203202Z
URL:https://trignacphotos.fr/events/reunion-de-bureau-7
SUMMARY:Réunion de bureau
DESCRIPTION:
CATEGORIES:Réunion
LOCATION:MDO\, 25 rue Marcel Sembat\, Trignac\, 44570\, France
X-APPLE-STRUCTURED-LOCATION;VALUE=URI;X-ADDRESS=25 rue Marcel Sembat\, Trig
 nac\, 44570\, France;X-APPLE-RADIUS=100;X-TITLE=MDO:geo:0,0
END:VEVENT
BEGIN:VTIMEZONE
TZID:Europe/Paris
X-LIC-LOCATION:Europe/Paris
BEGIN:DAYLIGHT
DTSTART:20260329T030000
TZOFFSETFROM:+0100
TZOFFSETTO:+0200
TZNAME:CEST
END:DAYLIGHT
END:VTIMEZONE
END:VCALENDAR