BEGIN:VCALENDAR
VERSION:2.0
PRODID:-//wp-events-plugin.com//7.2.3.1//EN
TZID:Europe/Paris
X-WR-TIMEZONE:Europe/Paris
BEGIN:VEVENT
UID:211@trignacphotos.fr
DTSTART;TZID=Europe/Paris:20260629T190000
DTEND;TZID=Europe/Paris:20260629T230000
DTSTAMP:20251027T084519Z
URL:https://trignacphotos.fr/events/repas-de-fin-dannee
SUMMARY:Repas de fin d'année
DESCRIPTION:Repas de fin d'année à la Salle Martin Luther King 
CATEGORIES:Sortie festive
END:VEVENT
BEGIN:VTIMEZONE
TZID:Europe/Paris
X-LIC-LOCATION:Europe/Paris
BEGIN:DAYLIGHT
DTSTART:20260329T030000
TZOFFSETFROM:+0100
TZOFFSETTO:+0200
TZNAME:CEST
END:DAYLIGHT
END:VTIMEZONE
END:VCALENDAR