BEGIN:VCALENDAR
VERSION:2.0
PRODID:-//wp-events-plugin.com//7.2.3.1//EN
TZID:Europe/Paris
X-WR-TIMEZONE:Europe/Paris
BEGIN:VEVENT
UID:286@trignacphotos.fr
DTSTART;TZID=Europe/Paris:20260326T200000
DTEND;TZID=Europe/Paris:20260326T220000
DTSTAMP:20260317T074007Z
URL:https://trignacphotos.fr/events/atelier-livre-des-forges-2
SUMMARY:Atelier Livre Des Forges - ANNULE
DESCRIPTION:Création du livre des forges -\n\nsous la houlette de marc
CATEGORIES:Création Livre des Forges
LOCATION:MDO\, 25 rue Marcel Sembat\, Trignac\, 44570\, France
X-APPLE-STRUCTURED-LOCATION;VALUE=URI;X-ADDRESS=25 rue Marcel Sembat\, Trig
 nac\, 44570\, France;X-APPLE-RADIUS=100;X-TITLE=MDO:geo:0,0
END:VEVENT
BEGIN:VTIMEZONE
TZID:Europe/Paris
X-LIC-LOCATION:Europe/Paris
BEGIN:STANDARD
DTSTART:20251026T020000
TZOFFSETFROM:+0200
TZOFFSETTO:+0100
TZNAME:CET
END:STANDARD
END:VTIMEZONE
END:VCALENDAR