BEGIN:VCALENDAR
VERSION:2.0
PRODID:-//wp-events-plugin.com//7.2.3.1//EN
TZID:Europe/Paris
X-WR-TIMEZONE:Europe/Paris
BEGIN:VEVENT
UID:90@trignacphotos.fr
DTSTART;TZID=Europe/Paris:20260620T093000
DTEND;TZID=Europe/Paris:20260620T120000
DTSTAMP:20251118T203217Z
URL:https://trignacphotos.fr/events/agites-du-bokeh-2026-06-20
SUMMARY:Agités du bokeh
DESCRIPTION:Présenté par Olivier\n\nun samedi par mois
CATEGORIES:Atelier photo
LOCATION:Musée des oiseaux\, 21 Rue Marcel Sambat\, Trignac\, 44570\, Fran
 ce
X-APPLE-STRUCTURED-LOCATION;VALUE=URI;X-ADDRESS=21 Rue Marcel Sambat\, Trig
 nac\, 44570\, France;X-APPLE-RADIUS=100;X-TITLE=Musée des oiseaux:geo:0,0
END:VEVENT
BEGIN:VTIMEZONE
TZID:Europe/Paris
X-LIC-LOCATION:Europe/Paris
BEGIN:DAYLIGHT
DTSTART:20260329T030000
TZOFFSETFROM:+0100
TZOFFSETTO:+0200
TZNAME:CEST
END:DAYLIGHT
END:VTIMEZONE
END:VCALENDAR