BEGIN:VCALENDAR
VERSION:2.0
PRODID:-//wp-events-plugin.com//7.2.3.1//EN
TZID:Europe/Paris
X-WR-TIMEZONE:Europe/Paris
BEGIN:VEVENT
UID:253@trignacphotos.fr
DTSTART;TZID=Europe/Paris:20260618T200000
DTEND;TZID=Europe/Paris:20260619T220000
DTSTAMP:20251218T205420Z
URL:https://trignacphotos.fr/events/a-la-maniere-de-2025-11-18-2026-01-13-
 2026-02-19-2026-03-17-2026-04-16-2026-05-05-2026-06-18
SUMMARY:A la manière de...
DESCRIPTION:Présentation d'un ou d'une photographe pendant env. 45min et a
 pres discussion divers en rapport ou non avec la présentation du début d
 'atelier
CATEGORIES:Atelier photo
LOCATION:Musée des oiseaux\, 21 Rue Marcel Sambat\, Trignac\, 44570\, Fran
 ce
X-APPLE-STRUCTURED-LOCATION;VALUE=URI;X-ADDRESS=21 Rue Marcel Sambat\, Trig
 nac\, 44570\, France;X-APPLE-RADIUS=100;X-TITLE=Musée des oiseaux:geo:0,0
END:VEVENT
BEGIN:VTIMEZONE
TZID:Europe/Paris
X-LIC-LOCATION:Europe/Paris
BEGIN:DAYLIGHT
DTSTART:20260329T030000
TZOFFSETFROM:+0100
TZOFFSETTO:+0200
TZNAME:CEST
END:DAYLIGHT
END:VTIMEZONE
END:VCALENDAR